BEGIN:VCALENDAR
VERSION:2.0
PRODID:-//Debbie Philp - ECPv6.15.20//NONSGML v1.0//EN
CALSCALE:GREGORIAN
METHOD:PUBLISH
X-WR-CALNAME:Debbie Philp
X-ORIGINAL-URL:https://debbiephilp.com
X-WR-CALDESC:Events for Debbie Philp
REFRESH-INTERVAL;VALUE=DURATION:PT1H
X-Robots-Tag:noindex
X-PUBLISHED-TTL:PT1H
BEGIN:VTIMEZONE
TZID:America/New_York
BEGIN:DAYLIGHT
TZOFFSETFROM:-0500
TZOFFSETTO:-0400
TZNAME:EDT
DTSTART:20250309T070000
END:DAYLIGHT
BEGIN:STANDARD
TZOFFSETFROM:-0400
TZOFFSETTO:-0500
TZNAME:EST
DTSTART:20251102T060000
END:STANDARD
BEGIN:DAYLIGHT
TZOFFSETFROM:-0500
TZOFFSETTO:-0400
TZNAME:EDT
DTSTART:20260308T070000
END:DAYLIGHT
BEGIN:STANDARD
TZOFFSETFROM:-0400
TZOFFSETTO:-0500
TZNAME:EST
DTSTART:20261101T060000
END:STANDARD
BEGIN:DAYLIGHT
TZOFFSETFROM:-0500
TZOFFSETTO:-0400
TZNAME:EDT
DTSTART:20270314T070000
END:DAYLIGHT
BEGIN:STANDARD
TZOFFSETFROM:-0400
TZOFFSETTO:-0500
TZNAME:EST
DTSTART:20271107T060000
END:STANDARD
END:VTIMEZONE
BEGIN:VEVENT
DTSTART;TZID=America/New_York:20260421T190000
DTEND;TZID=America/New_York:20260421T203000
DTSTAMP:20260421T015615
CREATED:20260403T155648Z
LAST-MODIFIED:20260403T155648Z
UID:10000391-1776798000-1776803400@debbiephilp.com
SUMMARY:North Country Wild Care meeting
DESCRIPTION:Looking for volunteer opportunities in wildlife rehabilitation or interested in becoming a wildlife rehabilitator? North Country Wild Care is a network of wildlife rehabilitators and supporting volunteers in New York’s Capital District through the southern Adirondacks. Monthly member meetings are open to the public and you are welcome. Experienced wildlife rehabilitators are happy to connect to guide you through the process of getting your license and our wildlife transporter and fundraising teams are always looking for help. No sign up required\, just show up.
URL:https://debbiephilp.com/event/north-country-wild-care-meeting-15/
LOCATION:South Glens Falls Fire Company\, 361 Reynolds Road\, Fort Edward\, NY\, 12828\, United States
CATEGORIES:Live Event,Wildlife Rescue
END:VEVENT
END:VCALENDAR