BEGIN:VCALENDAR
VERSION:2.0
PRODID:-//Debbie Philp - ECPv6.15.20//NONSGML v1.0//EN
CALSCALE:GREGORIAN
METHOD:PUBLISH
X-WR-CALNAME:Debbie Philp
X-ORIGINAL-URL:https://debbiephilp.com
X-WR-CALDESC:Events for Debbie Philp
REFRESH-INTERVAL;VALUE=DURATION:PT1H
X-Robots-Tag:noindex
X-PUBLISHED-TTL:PT1H
BEGIN:VTIMEZONE
TZID:America/New_York
BEGIN:DAYLIGHT
TZOFFSETFROM:-0500
TZOFFSETTO:-0400
TZNAME:EDT
DTSTART:20250309T070000
END:DAYLIGHT
BEGIN:STANDARD
TZOFFSETFROM:-0400
TZOFFSETTO:-0500
TZNAME:EST
DTSTART:20251102T060000
END:STANDARD
BEGIN:DAYLIGHT
TZOFFSETFROM:-0500
TZOFFSETTO:-0400
TZNAME:EDT
DTSTART:20260308T070000
END:DAYLIGHT
BEGIN:STANDARD
TZOFFSETFROM:-0400
TZOFFSETTO:-0500
TZNAME:EST
DTSTART:20261101T060000
END:STANDARD
BEGIN:DAYLIGHT
TZOFFSETFROM:-0500
TZOFFSETTO:-0400
TZNAME:EDT
DTSTART:20270314T070000
END:DAYLIGHT
BEGIN:STANDARD
TZOFFSETFROM:-0400
TZOFFSETTO:-0500
TZNAME:EST
DTSTART:20271107T060000
END:STANDARD
END:VTIMEZONE
BEGIN:VEVENT
DTSTART;TZID=America/New_York:20260421T190000
DTEND;TZID=America/New_York:20260421T203000
DTSTAMP:20260421T053824
CREATED:20260403T155648Z
LAST-MODIFIED:20260403T155648Z
UID:10000391-1776798000-1776803400@debbiephilp.com
SUMMARY:North Country Wild Care meeting
DESCRIPTION:Looking for volunteer opportunities in wildlife rehabilitation or interested in becoming a wildlife rehabilitator? North Country Wild Care is a network of wildlife rehabilitators and supporting volunteers in New York’s Capital District through the southern Adirondacks. Monthly member meetings are open to the public and you are welcome. Experienced wildlife rehabilitators are happy to connect to guide you through the process of getting your license and our wildlife transporter and fundraising teams are always looking for help. No sign up required\, just show up.
URL:https://debbiephilp.com/event/north-country-wild-care-meeting-15/
LOCATION:South Glens Falls Fire Company\, 361 Reynolds Road\, Fort Edward\, NY\, 12828\, United States
CATEGORIES:Live Event,Wildlife Rescue
END:VEVENT
BEGIN:VEVENT
DTSTART;TZID=America/New_York:20260503T190000
DTEND;TZID=America/New_York:20260503T200000
DTSTAMP:20260421T053824
CREATED:20260408T203450Z
LAST-MODIFIED:20260408T203450Z
UID:10000424-1777834800-1777838400@debbiephilp.com
SUMMARY:Mountain River Ecospiritual Circle
DESCRIPTION:You are invited to join in a Full Moon ritual inspired by earth-based spiritual traditions\, deep ecology\, Joanna Macy’s Work the Reconnects\, and nature itself. We gather monthly to support one another’s spiritual growth and direct our collective energy toward the well being of all beings. \nThe intention of our circle is to support your individual spiritual exploration and growth while connecting in a local\, welcoming group. Within our sacred space you will honor the Earth\, open to Mystery\, and strengthen your connection to Nature. Our inclusive circle is open to all\, including Pagans\, Wiccans\, Witches\, Druids\, Heathens\, and those exploring or curious about any ecospiritual path. No ritual experience is necessary. \nWe will meet inside in the Community Room\, straight ahead when you enter the main door. Our full moon gatherings will typically follow this format: announcements\, centering\, connecting with local wild beings\, casting the circle\, calling the directions/elements\, meditation or other practice\, ritual\, releasing directions/elements\, closing the circle. Participants are welcome to stay after the circle is closed for informal social time. Our circles will be family-friendly\, but we ask that children not participating in the ritual remain in the room with quiet entertainment. \n\n\n\n\nSome of our circle members like to bring their journals to record any insights. You are also welcome to bring items from nature to add to our altar\, as well as crystals or other sacred items to charge. We typically sit on the floor or ground for circle\, however there are chairs available and several circle members use them. We have some backjacks and yoga blankets available to sit on and you may also bring your own cushion or blanket for that purpose. \n\nTo help plan for ritual supplies and space requirements\, RSVPs for this free event are appreciated.
URL:https://debbiephilp.com/event/mountain-river-ecospiritual-circle-3/
LOCATION:UU Congregation of Glens Falls\, 21 Weeks Road\, Queensbury\, NY\, 12804\, United States
CATEGORIES:Live Event,Ritual
ATTACH;FMTTYPE=image/jpeg:https://debbiephilp.com/wp-content/uploads/2025/05/MRC-Web-Event-Header.jpg
END:VEVENT
BEGIN:VEVENT
DTSTART;TZID=America/New_York:20260517T113000
DTEND;TZID=America/New_York:20260517T153000
DTSTAMP:20260421T053824
CREATED:20260403T155444Z
LAST-MODIFIED:20260403T155444Z
UID:10000390-1779017400-1779031800@debbiephilp.com
SUMMARY:North Country Wild Care Spring Gala
DESCRIPTION:This year marks 25 years of North Country Wild Care rehabilitators and supporting members serving wildlife throughout our communities\, and there will be a very special celebration at this year’s Gala! \nClick here for tickets. \nThe event will feature live wildlife ambassadors (including turtles from Dancing Turtle Rescue\, my nonprofit)\, live music\, a silent auction with beautiful items donated from local artists and merchants\, rehabilitator presentations\, and a lovely luncheon at the Gideon Putnam in Saratoga Springs\, NY. Many wildlife rehabilitators will be there\, always happy to share their wildlife experiences. \nLuncheon menu choices:\n*Chicken Parmesan with Penne Pasta\, Vegetable Melody\n*Wild Mushroom Ravioli with Sherry Cream Sauce\, Vegetable Melody (Vegetarian option)\n*Eggplant Napoleon\, Vegetable Melody (Vegan option) \nDessert: Vanilla Bean Cheesecake or Vegan Carmel Chocolate Cake\nCash Bar \n 
URL:https://debbiephilp.com/event/north-country-wild-care-spring-gala-4/
LOCATION:The Gideon Putnam\, 24 Gideon Putnam Road\, Saratoga Springs\, NY\, 12866\, United States
CATEGORIES:Live Event,Wildlife Rescue
ATTACH;FMTTYPE=image/jpeg:https://debbiephilp.com/wp-content/uploads/2026/04/NCWC-Gala-2026.jpg
END:VEVENT
BEGIN:VEVENT
DTSTART;TZID=America/New_York:20260519T190000
DTEND;TZID=America/New_York:20260519T203000
DTSTAMP:20260421T053824
CREATED:20260403T155741Z
LAST-MODIFIED:20260403T155741Z
UID:10000393-1779217200-1779222600@debbiephilp.com
SUMMARY:North Country Wild Care meeting
DESCRIPTION:Looking for volunteer opportunities in wildlife rehabilitation or interested in becoming a wildlife rehabilitator? North Country Wild Care is a network of wildlife rehabilitators and supporting volunteers in New York’s Capital District through the southern Adirondacks. Monthly member meetings are open to the public and you are welcome. Experienced wildlife rehabilitators are happy to connect to guide you through the process of getting your license and our wildlife transporter and fundraising teams are always looking for help. No sign up required\, just show up.
URL:https://debbiephilp.com/event/north-country-wild-care-meeting-16/
LOCATION:South Glens Falls Fire Company\, 361 Reynolds Road\, Fort Edward\, NY\, 12828\, United States
CATEGORIES:Live Event,Wildlife Rescue
END:VEVENT
BEGIN:VEVENT
DTSTART;TZID=America/New_York:20260616T190000
DTEND;TZID=America/New_York:20260616T203000
DTSTAMP:20260421T053824
CREATED:20260403T155824Z
LAST-MODIFIED:20260403T155824Z
UID:10000394-1781636400-1781641800@debbiephilp.com
SUMMARY:North Country Wild Care meeting
DESCRIPTION:Looking for volunteer opportunities in wildlife rehabilitation or interested in becoming a wildlife rehabilitator? North Country Wild Care is a network of wildlife rehabilitators and supporting volunteers in New York’s Capital District through the southern Adirondacks. Monthly member meetings are open to the public and you are welcome. Experienced wildlife rehabilitators are happy to connect to guide you through the process of getting your license and our wildlife transporter and fundraising teams are always looking for help. No sign up required\, just show up.
URL:https://debbiephilp.com/event/north-country-wild-care-meeting-17/
LOCATION:South Glens Falls Fire Company\, 361 Reynolds Road\, Fort Edward\, NY\, 12828\, United States
CATEGORIES:Live Event,Wildlife Rescue
END:VEVENT
BEGIN:VEVENT
DTSTART;TZID=America/New_York:20260915T190000
DTEND;TZID=America/New_York:20260915T203000
DTSTAMP:20260421T053824
CREATED:20260403T155905Z
LAST-MODIFIED:20260403T155905Z
UID:10000395-1789498800-1789504200@debbiephilp.com
SUMMARY:North Country Wild Care meeting
DESCRIPTION:Looking for volunteer opportunities in wildlife rehabilitation or interested in becoming a wildlife rehabilitator? North Country Wild Care is a network of wildlife rehabilitators and supporting volunteers in New York’s Capital District through the southern Adirondacks. Monthly member meetings are open to the public and you are welcome. Experienced wildlife rehabilitators are happy to connect to guide you through the process of getting your license and our wildlife transporter and fundraising teams are always looking for help. No sign up required\, just show up.
URL:https://debbiephilp.com/event/north-country-wild-care-meeting-18/
LOCATION:South Glens Falls Fire Company\, 361 Reynolds Road\, Fort Edward\, NY\, 12828\, United States
CATEGORIES:Live Event,Wildlife Rescue
END:VEVENT
BEGIN:VEVENT
DTSTART;TZID=America/New_York:20261020T190000
DTEND;TZID=America/New_York:20261020T203000
DTSTAMP:20260421T053824
CREATED:20260403T155944Z
LAST-MODIFIED:20260403T155944Z
UID:10000396-1792522800-1792528200@debbiephilp.com
SUMMARY:North Country Wild Care meeting
DESCRIPTION:Looking for volunteer opportunities in wildlife rehabilitation or interested in becoming a wildlife rehabilitator? North Country Wild Care is a network of wildlife rehabilitators and supporting volunteers in New York’s Capital District through the southern Adirondacks. Monthly member meetings are open to the public and you are welcome. Experienced wildlife rehabilitators are happy to connect to guide you through the process of getting your license and our wildlife transporter and fundraising teams are always looking for help. No sign up required\, just show up.
URL:https://debbiephilp.com/event/north-country-wild-care-meeting-19/
LOCATION:South Glens Falls Fire Company\, 361 Reynolds Road\, Fort Edward\, NY\, 12828\, United States
CATEGORIES:Live Event,Wildlife Rescue
END:VEVENT
BEGIN:VEVENT
DTSTART;TZID=America/New_York:20261117T190000
DTEND;TZID=America/New_York:20261117T203000
DTSTAMP:20260421T053824
CREATED:20260403T160027Z
LAST-MODIFIED:20260403T160027Z
UID:10000397-1794942000-1794947400@debbiephilp.com
SUMMARY:North Country Wild Care meeting
DESCRIPTION:Looking for volunteer opportunities in wildlife rehabilitation or interested in becoming a wildlife rehabilitator? North Country Wild Care is a network of wildlife rehabilitators and supporting volunteers in New York’s Capital District through the southern Adirondacks. Monthly member meetings are open to the public and you are welcome. Experienced wildlife rehabilitators are happy to connect to guide you through the process of getting your license and our wildlife transporter and fundraising teams are always looking for help. No sign up required\, just show up.
URL:https://debbiephilp.com/event/north-country-wild-care-meeting-20/
LOCATION:South Glens Falls Fire Company\, 361 Reynolds Road\, Fort Edward\, NY\, 12828\, United States
CATEGORIES:Live Event,Wildlife Rescue
END:VEVENT
END:VCALENDAR