BEGIN:VCALENDAR
VERSION:2.0
PRODID:-//Debbie Philp - ECPv6.15.20//NONSGML v1.0//EN
CALSCALE:GREGORIAN
METHOD:PUBLISH
X-ORIGINAL-URL:https://debbiephilp.com
X-WR-CALDESC:Events for Debbie Philp
REFRESH-INTERVAL;VALUE=DURATION:PT1H
X-Robots-Tag:noindex
X-PUBLISHED-TTL:PT1H
BEGIN:VTIMEZONE
TZID:America/New_York
BEGIN:DAYLIGHT
TZOFFSETFROM:-0500
TZOFFSETTO:-0400
TZNAME:EDT
DTSTART:20230312T070000
END:DAYLIGHT
BEGIN:STANDARD
TZOFFSETFROM:-0400
TZOFFSETTO:-0500
TZNAME:EST
DTSTART:20231105T060000
END:STANDARD
BEGIN:DAYLIGHT
TZOFFSETFROM:-0500
TZOFFSETTO:-0400
TZNAME:EDT
DTSTART:20240310T070000
END:DAYLIGHT
BEGIN:STANDARD
TZOFFSETFROM:-0400
TZOFFSETTO:-0500
TZNAME:EST
DTSTART:20241103T060000
END:STANDARD
BEGIN:DAYLIGHT
TZOFFSETFROM:-0500
TZOFFSETTO:-0400
TZNAME:EDT
DTSTART:20250309T070000
END:DAYLIGHT
BEGIN:STANDARD
TZOFFSETFROM:-0400
TZOFFSETTO:-0500
TZNAME:EST
DTSTART:20251102T060000
END:STANDARD
END:VTIMEZONE
BEGIN:VEVENT
DTSTART;TZID=America/New_York:20240801T200000
DTEND;TZID=America/New_York:20240801T210000
DTSTAMP:20260422T061708
CREATED:20240612T154709Z
LAST-MODIFIED:20240612T154709Z
UID:10000128-1722542400-1722546000@debbiephilp.com
SUMMARY:Citizens' Climate Lobby Wildlife Action Team meeting
DESCRIPTION:The Citizens’ Climate Lobby Wildlife Action Team meets the first Thursday of each month at 8:00pmET/5:00pmPT on Zoom. Guests are welcomed. Contact me for the link. \n 
URL:https://debbiephilp.com/event/citizens-climate-lobby-wildlife-action-team-meeting-8/
LOCATION:Zoom
CATEGORIES:Online Event,Wildlife Rescue
END:VEVENT
BEGIN:VEVENT
DTSTART;TZID=America/New_York:20240804T210000
DTEND;TZID=America/New_York:20240804T213000
DTSTAMP:20260422T061708
CREATED:20240612T154819Z
LAST-MODIFIED:20240612T154819Z
UID:10000129-1722805200-1722807000@debbiephilp.com
SUMMARY:New Moon Turtle Journey
DESCRIPTION:Guided drum meditation to meet an animal helping spirit for the New Moon in Leo. \nCall in (audio only) 1-720-527-5923 and enter access code 5983301.
URL:https://debbiephilp.com/event/new-moon-turtle-journey-16/
LOCATION:Call-In
CATEGORIES:Call In Event,New Moon Journey
ATTACH;FMTTYPE=image/jpeg:https://debbiephilp.com/wp-content/uploads/2023/05/Turtle-Journey-Small.jpg
END:VEVENT
BEGIN:VEVENT
DTSTART;TZID=America/New_York:20240810T100000
DTEND;TZID=America/New_York:20240810T160000
DTSTAMP:20260422T061708
CREATED:20240612T152721Z
LAST-MODIFIED:20240627T215548Z
UID:10000122-1723284000-1723305600@debbiephilp.com
SUMMARY:Faery and Earth Festival
DESCRIPTION:Visit my booth for 15 minute Shamanic Reiki sessions and animal oracle readings\, plus wares to deepen your connection to nature and the wild beings. \nFestival includes craft vendors\, tarot readers\, food truck\, and more. Free entrance.
URL:https://debbiephilp.com/event/faery-and-earth-festival/
LOCATION:Thompson Park\, Thompson Park\, Watertown\, 13601\, United States
CATEGORIES:Festival,Live Event
ATTACH;FMTTYPE=image/jpeg:https://debbiephilp.com/wp-content/uploads/2024/06/Faery-and-Earth-Festival-Header-Small.jpg
END:VEVENT
BEGIN:VEVENT
DTSTART;TZID=America/New_York:20240818T100000
DTEND;TZID=America/New_York:20240818T110000
DTSTAMP:20260422T061708
CREATED:20240612T161923Z
LAST-MODIFIED:20240612T161923Z
UID:10000138-1723975200-1723978800@debbiephilp.com
SUMMARY:UU Service: John Barleycorn
DESCRIPTION:Join the Unitarian Universalist Congregation of Glens Falls Sunday service where I will be speaking on “John Barleycorn.”\nZoom access may be available. Please message me for the link if you would like to join online.
URL:https://debbiephilp.com/event/uu-service-john-barleycorn/
LOCATION:UU Congregation of Glens Falls\, 21 Weeks Road\, Queensbury\, NY\, 12804\, United States
CATEGORIES:Live Event,Online Event,Religious Service
ATTACH;FMTTYPE=image/jpeg:https://debbiephilp.com/wp-content/uploads/2024/06/Guest-Minister-John-Barleycorn-Small.jpg
END:VEVENT
BEGIN:VEVENT
DTSTART;TZID=America/New_York:20240818T190000
DTEND;TZID=America/New_York:20240818T203000
DTSTAMP:20260422T061708
CREATED:20240612T154926Z
LAST-MODIFIED:20240612T154926Z
UID:10000130-1724007600-1724013000@debbiephilp.com
SUMMARY:Mountain River Circle at UUCGF
DESCRIPTION:Join an open\, eclectic\, earth-based circle in ritual for the Full Moon. \nThe intention of our circle is to support your individual spiritual exploration and growth while connecting Pagans in a local\, welcoming group. Within our sacred space you will honor the Earth\, open to Mystery\, and strengthen your connection to Nature. Our inclusive circle is open to all Pagans\, including Wiccans\, Witches\, Druids\, Heathens\, and those exploring or curious about any Pagan path. No ritual experience is necessary. \nWe meet in the Community Room of the UU building\, straight ahead when you enter the main door. Our full moon gatherings will typically follow this format: announcements\, casting the circle\, calling the directions/elements\, mediation and/or ritual\, releasing directions/elements\, closing the circle\, “cakes and ale” (refreshments)\, social time with optional open drumming. Our circles will be family-friendly\, but we ask that children not participating in the ritual remain in the room with quiet entertainment. \nAs our circle grows\, we will organize into a CUUPS (Covenant of Unitarian Universalist Pagans) chapter. There will be opportunities for those who wish to step into leadership or supporting roles to do so. \nRSVPs open August 1st
URL:https://debbiephilp.com/event/mountain-river-circle-at-uucgf-12/
LOCATION:UU Congregation of Glens Falls\, 21 Weeks Road\, Queensbury\, NY\, 12804\, United States
CATEGORIES:Live Event,Ritual
ATTACH;FMTTYPE=image/jpeg:https://debbiephilp.com/wp-content/uploads/2024/06/MRC-Header-Small-2024.jpg
END:VEVENT
BEGIN:VEVENT
DTSTART;TZID=America/New_York:20240819T200000
DTEND;TZID=America/New_York:20240819T210000
DTSTAMP:20260422T061708
CREATED:20240612T155305Z
LAST-MODIFIED:20240612T155305Z
UID:10000131-1724097600-1724101200@debbiephilp.com
SUMMARY:Storm HEARTH Circle
DESCRIPTION:Join Debbie and Lori for a guided shamanic experience. \nThis independently designed online HEARTH Circle is intended to nourish our community and to financially benefit the nonprofit work and projects of the Olympic Mountain EarthWisdom Circle (OMEC). 100% of the funds raised go to support OMEC and its indigenous projects. \nRegister Here
URL:https://debbiephilp.com/event/storm-hearth-circle/
LOCATION:Crowdcast
CATEGORIES:Online Event
END:VEVENT
BEGIN:VEVENT
DTSTART;TZID=America/New_York:20240820T210000
DTEND;TZID=America/New_York:20240820T213000
DTSTAMP:20260422T061708
CREATED:20240612T155444Z
LAST-MODIFIED:20240612T155444Z
UID:10000132-1724187600-1724189400@debbiephilp.com
SUMMARY:Full Moon Turtle Journey
DESCRIPTION:Guided drum meditation to meet or reconnect with an animal helping spirit for the Full Moon in Aquarius. \nCall in (audio only) 1-720-527-5923 and enter access code 5983301. \n  \nClick here for international numbers.
URL:https://debbiephilp.com/event/full-moon-turtle-journey-17/
LOCATION:Call-In
CATEGORIES:Call In Event,Full Moon Journey
ATTACH;FMTTYPE=image/jpeg:https://debbiephilp.com/wp-content/uploads/2023/05/Turtle-Journey-Small.jpg
END:VEVENT
END:VCALENDAR