BEGIN:VCALENDAR
VERSION:2.0
PRODID:-//Debbie Philp - ECPv6.15.20//NONSGML v1.0//EN
CALSCALE:GREGORIAN
METHOD:PUBLISH
X-WR-CALNAME:Debbie Philp
X-ORIGINAL-URL:https://debbiephilp.com
X-WR-CALDESC:Events for Debbie Philp
REFRESH-INTERVAL;VALUE=DURATION:PT1H
X-Robots-Tag:noindex
X-PUBLISHED-TTL:PT1H
BEGIN:VTIMEZONE
TZID:America/New_York
BEGIN:DAYLIGHT
TZOFFSETFROM:-0500
TZOFFSETTO:-0400
TZNAME:EDT
DTSTART:20240310T070000
END:DAYLIGHT
BEGIN:STANDARD
TZOFFSETFROM:-0400
TZOFFSETTO:-0500
TZNAME:EST
DTSTART:20241103T060000
END:STANDARD
BEGIN:DAYLIGHT
TZOFFSETFROM:-0500
TZOFFSETTO:-0400
TZNAME:EDT
DTSTART:20250309T070000
END:DAYLIGHT
BEGIN:STANDARD
TZOFFSETFROM:-0400
TZOFFSETTO:-0500
TZNAME:EST
DTSTART:20251102T060000
END:STANDARD
BEGIN:DAYLIGHT
TZOFFSETFROM:-0500
TZOFFSETTO:-0400
TZNAME:EDT
DTSTART:20260308T070000
END:DAYLIGHT
BEGIN:STANDARD
TZOFFSETFROM:-0400
TZOFFSETTO:-0500
TZNAME:EST
DTSTART:20261101T060000
END:STANDARD
END:VTIMEZONE
BEGIN:VEVENT
DTSTART;TZID=America/New_York:20250406T130000
DTEND;TZID=America/New_York:20250406T160000
DTSTAMP:20260422T061710
CREATED:20250220T173108Z
LAST-MODIFIED:20250220T175454Z
UID:10000207-1743944400-1743955200@debbiephilp.com
SUMMARY:NCWC Introduction to Turtle Rehabilitation
DESCRIPTION:Debbie will be one of the instructors for North Country Wild Care’s Introduction to Turtle Rehabilitation class for licensed wildlife rehabilitators in northeastern NY.\n\nDue to their unique anatomy\, injured turtles are challenging to rehabilitate but releases are very gratifying. Learn turtle care in the rehabilitation setting. We will begin with basic turtle physiology\, discuss intake\, triage\, and stabilization\, then cover husbandry\, including dry docking during recovery\, wound management\, and water setups in preparation of release.\n\nWARNING: The presentation will include graphic photos of turtle injuries. The class (and turtle rehab) is not recommended for those who are sensitive to blood or severe injuries.\nWe are being hosted by a North Country Wild Care sponsor in Saratoga Springs\, NY. Address will only be sent to those who register. Space is limited. Please register here: https://forms.gle/FxB5KPz8rLDvpkww8
URL:https://debbiephilp.com/event/ncwc-introduction-to-turtle-rehabilitation/
LOCATION:Provided on registration\, Saratoga Springs\, NY\, United States
CATEGORIES:Live Event,Wildlife Rescue
END:VEVENT
END:VCALENDAR