BEGIN:VCALENDAR
VERSION:2.0
PRODID:-//Debbie Philp - ECPv6.15.20//NONSGML v1.0//EN
CALSCALE:GREGORIAN
METHOD:PUBLISH
X-ORIGINAL-URL:https://debbiephilp.com
X-WR-CALDESC:Events for Debbie Philp
REFRESH-INTERVAL;VALUE=DURATION:PT1H
X-Robots-Tag:noindex
X-PUBLISHED-TTL:PT1H
BEGIN:VTIMEZONE
TZID:America/New_York
BEGIN:DAYLIGHT
TZOFFSETFROM:-0500
TZOFFSETTO:-0400
TZNAME:EDT
DTSTART:20220313T070000
END:DAYLIGHT
BEGIN:STANDARD
TZOFFSETFROM:-0400
TZOFFSETTO:-0500
TZNAME:EST
DTSTART:20221106T060000
END:STANDARD
BEGIN:DAYLIGHT
TZOFFSETFROM:-0500
TZOFFSETTO:-0400
TZNAME:EDT
DTSTART:20230312T070000
END:DAYLIGHT
BEGIN:STANDARD
TZOFFSETFROM:-0400
TZOFFSETTO:-0500
TZNAME:EST
DTSTART:20231105T060000
END:STANDARD
BEGIN:DAYLIGHT
TZOFFSETFROM:-0500
TZOFFSETTO:-0400
TZNAME:EDT
DTSTART:20240310T070000
END:DAYLIGHT
BEGIN:STANDARD
TZOFFSETFROM:-0400
TZOFFSETTO:-0500
TZNAME:EST
DTSTART:20241103T060000
END:STANDARD
END:VTIMEZONE
BEGIN:VEVENT
DTSTART;TZID=America/New_York:20230501T193000
DTEND;TZID=America/New_York:20230501T203000
DTSTAMP:20260419T112929
CREATED:20230502T015351Z
LAST-MODIFIED:20230503T000225Z
UID:10000003-1682969400-1682973000@debbiephilp.com
SUMMARY:Beltane Ceremony
DESCRIPTION:Gather virtually with like-hearted souls to celebrate the ancient Celtic festival of Beltane\, or May Day\, celebrating the creativity and fertility of the Earth in bloom. Beltane has been reimagined for modern times by practitioners of Druidry\, Wicca and other neo-Pagan traditions. By engaging in ceremonies throughout the year\, you reconnect with the Earth’s rhythms and cycles and remember the ancestral wisdom you carry in your DNA. \nDuring the Beltane ceremony\, you will by guided in a journey with the shamanic drum\, receive a group animal spirit oracle card reading\, and participate in a ritual of gratitude for blessings with colorful ribbons in a nod to the traditional Maypole dance. Through the virtual platform you will be able to see the ceremonial altar\, as if you were in circle around it. \nRegister to join us on Zoom on Monday\, May 1st at 7:30pmEDT. Your investment is $10. Plan to be present for about an hour. This ceremony will not be recorded\, so please mark your calendar. \nIf possible\, please have some brightly colored ribbons or fabric scraps cut to about ten inches long\, a pen or marker that will write on the ribbon\, and\, if possible\, a small tree branch. If you do not have these\, please know that I will have them on the ceremonial altar for the benefit of everyone participating. If you do not have a branch\, you can tie your ribbons outside after the ceremony. \nRegister here
URL:https://debbiephilp.com/event/beltane-ceremony/
LOCATION:Zoom
CATEGORIES:Online Event,Ritual
ATTACH;FMTTYPE=image/jpeg:https://debbiephilp.com/wp-content/uploads/2023/05/Beltane-Virtual-Ceremony-Small.jpg
END:VEVENT
END:VCALENDAR